BEGIN:VCALENDAR
VERSION:2.0
PRODID:-//Sustainable South Brent - ECPv6.14.2//NONSGML v1.0//EN
CALSCALE:GREGORIAN
METHOD:PUBLISH
X-ORIGINAL-URL:https://ssb.org.uk
X-WR-CALDESC:Events for Sustainable South Brent
REFRESH-INTERVAL;VALUE=DURATION:PT1H
X-Robots-Tag:noindex
X-PUBLISHED-TTL:PT1H
BEGIN:VTIMEZONE
TZID:Europe/London
BEGIN:DAYLIGHT
TZOFFSETFROM:+0000
TZOFFSETTO:+0100
TZNAME:BST
DTSTART:20210328T010000
END:DAYLIGHT
BEGIN:STANDARD
TZOFFSETFROM:+0100
TZOFFSETTO:+0000
TZNAME:GMT
DTSTART:20211031T010000
END:STANDARD
END:VTIMEZONE
BEGIN:VEVENT
DTSTART;TZID=Europe/London:20210329T193000
DTEND;TZID=Europe/London:20210329T210000
DTSTAMP:20260420T031102
CREATED:20210326T135410Z
LAST-MODIFIED:20210327T124912Z
UID:10000424-1617046200-1617051600@ssb.org.uk
SUMMARY:South Brent Annual Parish Meeting
DESCRIPTION:Monday 29 March 2021: South Brent Annual Parish Meeting 2021 via Zoom at 7.30pm chaired by Cllr. Cathie Pannell (chairperson of South Brent Parish Council). The meeting acts as an annual democratic point of communication enabling the Parish Council to explain what it has been doing over the last year and providing an opportunity for the electors to have their say and make comments and suggestions on anything they consider is important to the people of the Parish. The agenda includes the Parish Council Chairman’s Annual Report (including reports from Parish Council Committees); a Police report; presentations from organisations which have received a grant from the Parish Council or Community Benefit Fund during the 2020-21 financial year (South Brent & District Caring; the announcement and presentation of the Community Champion and Young Community Champion Awards for 2020-21) plus parishioners’ questions. NB. It is NOT a meeting of the Parish Council\, – anyone may attend but only registered electors of South Brent Parish may speak\, ask questions of the Council and vote. To join the meeting use the link https://us02web.zoom.us/j/82088239420 or to access via the Zoom app use Meeting ID: 820 8823 9420. To see the agenda for the meeting click here. See: www.southbrent.gov.uk/.
URL:https://ssb.org.uk/event/south-brent-annual-parish-meeting/
LOCATION:Zoom\, South Brent\, Devon\, United Kingdom
CATEGORIES:General
GEO:50.429962;-3.837397
END:VEVENT
END:VCALENDAR