BEGIN:VCALENDAR
VERSION:2.0
PRODID:-//Sustainable South Brent - ECPv6.14.2//NONSGML v1.0//EN
CALSCALE:GREGORIAN
METHOD:PUBLISH
X-ORIGINAL-URL:https://ssb.org.uk
X-WR-CALDESC:Events for Sustainable South Brent
REFRESH-INTERVAL;VALUE=DURATION:PT1H
X-Robots-Tag:noindex
X-PUBLISHED-TTL:PT1H
BEGIN:VTIMEZONE
TZID:Europe/London
BEGIN:DAYLIGHT
TZOFFSETFROM:+0000
TZOFFSETTO:+0100
TZNAME:BST
DTSTART:20230326T010000
END:DAYLIGHT
BEGIN:STANDARD
TZOFFSETFROM:+0100
TZOFFSETTO:+0000
TZNAME:GMT
DTSTART:20231029T010000
END:STANDARD
END:VTIMEZONE
BEGIN:VEVENT
DTSTART;TZID=Europe/London:20230923T074500
DTEND;TZID=Europe/London:20230923T150000
DTSTAMP:20260419T133732
CREATED:20230807T222715Z
LAST-MODIFIED:20230914T233045Z
UID:10000760-1695455100-1695481200@ssb.org.uk
SUMMARY:Beating the Moorland Bounds 2023
DESCRIPTION:Saturday 23 September 2023: ‘Beat the Moorland Bounds’: South Brent Parish Council invites all residents to participate in this free historic event to Beat the Moorland Parish Boundary. \nSouth Brent’s ancient ‘Beating the Bounds’ ceremony takes place in in two halves over a 7-year cycle – the Outer/Moorland/Northern bounds and the Inner/Southern/Diptford bounds. The event was last held in October 2016 and was due in 2020\, but was postponed due to Covid. This year the Outer (moorland) bounds are being beaten with the beating of the Inner (southern) bounds to be arranged in a following year. \nIt is an 11mile round trip. Pick-ups are available from Station Yard car park from 07.45 until 08.45; registration at the start will be from 8-9am. NB. To take part\, please book in advance (see below) and please note – there is no parking available at the start of the walk\, which will begin from Heathstone Head at 09.00am. There will be a tour of the Avon Dam\, where refreshments will be available. Please bring a packed lunch and wear suitable clothing for a moorland hike\, in changeable weather. The walk will be guided throughout and will finish back in the village around 4pm with a drink and a pasty in the Packhorse Inn. Sorry no dogs or horses\, and all under 16s must be accompanied. \nPLEASE BOOK your free place\, as accurate numbers are needed – via www.eventbrite.co.uk/e/beating-the-outer-bounds-2023-tickets-672963761727. \nThe programme for the event can be downloaded HERE. \nFFI: see www.southbrent.gov.uk and www.southbrent.gov.uk/beating-the-outer-moorland-bounds/ or contact the clerk – clerk@southbrent.gov.uk. \nThis is not an SSB event\, but is a community event organised by  South Brent Parish Council
URL:https://ssb.org.uk/event/beating-the-bounds-2023/
LOCATION:South Brent Parish\, South Brent\, Devon\, United Kingdom
GEO:50.429962;-3.837397
END:VEVENT
END:VCALENDAR