BEGIN:VCALENDAR
VERSION:2.0
PRODID:-//Sustainable South Brent - ECPv6.14.2//NONSGML v1.0//EN
CALSCALE:GREGORIAN
METHOD:PUBLISH
X-ORIGINAL-URL:https://ssb.org.uk
X-WR-CALDESC:Events for Sustainable South Brent
REFRESH-INTERVAL;VALUE=DURATION:PT1H
X-Robots-Tag:noindex
X-PUBLISHED-TTL:PT1H
BEGIN:VTIMEZONE
TZID:Europe/London
BEGIN:DAYLIGHT
TZOFFSETFROM:+0000
TZOFFSETTO:+0100
TZNAME:BST
DTSTART:20230326T010000
END:DAYLIGHT
BEGIN:STANDARD
TZOFFSETFROM:+0100
TZOFFSETTO:+0000
TZNAME:GMT
DTSTART:20231029T010000
END:STANDARD
END:VTIMEZONE
BEGIN:VEVENT
DTSTART;TZID=Europe/London:20230614T170000
DTEND;TZID=Europe/London:20230614T193000
DTSTAMP:20260419T185523
CREATED:20230426T105630Z
LAST-MODIFIED:20230426T105741Z
UID:10000726-1686762000-1686771000@ssb.org.uk
SUMMARY:Forest Rising Workshop
DESCRIPTION:FOREST RISING  \nForest Rising – a programme for the next generation of leaders\, that harnesses youth power\, and puts young people at the heart of decision making. \n  \n  \nAre you aged 16 – 28? Come and share your views on how to improve your local environment\, have a say on where trees are planted and how woodlands are created\, what happens in them\, and what activities are on offer. \nSouth Devon dates and times \n\nWorkshop 1 – Wed 17th May\, 5.30 – 7.30\, Town Hall\, Ivybridge\nWorkshop 2 – Wed 24th May\, 5.30 – 7.30\, Town Hall\, Ivybridge\nWorkshop 3 – Wed 7th June\, 5.30 – 7.30\, Ivybridge\, Filham (TBC)\nWorkshop 4 – Wed 14th June\, 5.30 – 7.30\, Town Hall\, Ivybridge\nGrand finale! – July\, location and timings to be confirmed\n\nForest Rising is a part of the Plymouth and South Devon Community Forest \nFind out more on the Real Ideas – Forest Rising website \n(NB: These are not SSB events)
URL:https://ssb.org.uk/event/forest-rising-workshop/2023-06-14/
LOCATION:Ivybridge Town Hall\, Ivybridge\, Devon\, United Kingdom
CATEGORIES:Youth Liaison
GEO:50.390202;-3.920431
END:VEVENT
END:VCALENDAR