BEGIN:VCALENDAR
VERSION:2.0
PRODID:-//Sustainable South Brent - ECPv6.14.2//NONSGML v1.0//EN
CALSCALE:GREGORIAN
METHOD:PUBLISH
X-WR-CALNAME:Sustainable South Brent
X-ORIGINAL-URL:https://ssb.org.uk
X-WR-CALDESC:Events for Sustainable South Brent
REFRESH-INTERVAL;VALUE=DURATION:PT1H
X-Robots-Tag:noindex
X-PUBLISHED-TTL:PT1H
BEGIN:VTIMEZONE
TZID:Europe/London
BEGIN:DAYLIGHT
TZOFFSETFROM:+0000
TZOFFSETTO:+0100
TZNAME:BST
DTSTART:20220327T010000
END:DAYLIGHT
BEGIN:STANDARD
TZOFFSETFROM:+0100
TZOFFSETTO:+0000
TZNAME:GMT
DTSTART:20221030T010000
END:STANDARD
END:VTIMEZONE
BEGIN:VEVENT
DTSTART;VALUE=DATE:20220624
DTEND;VALUE=DATE:20220625
DTSTAMP:20260420T110902
CREATED:20220509T095559Z
LAST-MODIFIED:20220509T103815Z
UID:10000580-1656028800-1656115199@ssb.org.uk
SUMMARY:SSB Competition one week to go!
DESCRIPTION:Competition one week to go!: Just a few days left to enter SSB’s free-to-enter Competition. Great prizes up for grabs for photographers\, artists and writers. Click on banner above for full details.
URL:https://ssb.org.uk/event/ssb-competition-one-week-to-go/
LOCATION:South Brent\, Devon\, United Kingdom
CATEGORIES:Sustainability,Youth Liaison
GEO:50.429962;-3.837397
END:VEVENT
END:VCALENDAR