BEGIN:VCALENDAR
VERSION:2.0
PRODID:-//Sustainable South Brent - ECPv6.14.2//NONSGML v1.0//EN
CALSCALE:GREGORIAN
METHOD:PUBLISH
X-ORIGINAL-URL:https://ssb.org.uk
X-WR-CALDESC:Events for Sustainable South Brent
REFRESH-INTERVAL;VALUE=DURATION:PT1H
X-Robots-Tag:noindex
X-PUBLISHED-TTL:PT1H
BEGIN:VTIMEZONE
TZID:Europe/London
BEGIN:DAYLIGHT
TZOFFSETFROM:+0000
TZOFFSETTO:+0100
TZNAME:BST
DTSTART:20210328T010000
END:DAYLIGHT
BEGIN:STANDARD
TZOFFSETFROM:+0100
TZOFFSETTO:+0000
TZNAME:GMT
DTSTART:20211031T010000
END:STANDARD
END:VTIMEZONE
BEGIN:VEVENT
DTSTART;TZID=Europe/London:20210814T100000
DTEND;TZID=Europe/London:20210814T160000
DTSTAMP:20260424T092555
CREATED:20210620T222330Z
LAST-MODIFIED:20210809T114557Z
UID:10000450-1628935200-1628956800@ssb.org.uk
SUMMARY:'Waste Not Want Not'
DESCRIPTION:Saturday 14 August 2021: ‘Waste Not Want Not’: 10am-4pm at the Old School Community Centre\, organised by Sustainable South Brent and the Climate Fair group. \nJumble Sale from 10am-12noon\, and a host of street stalls offering sustainable products\, goods and advice around the ‘Waste Not\, Want Not’ theme \nUpcycling workshops: \n\n‘Restyle and much loved ‘t’ shirt workshop’\nAdvice on old clothes mending and restyling\nMake your own\, unique tote bag from recycled material\n‘Power Up!’ competition for adults and children for the best idea for re-using/re-purposing common items in the home\nMake a pom-pom (children)\nChildren’s Artist from 2-4pm\n\nDelicious Refreshments available all day. There’s no need to book for any of the activities; they will be run on a ‘first-come\, first served’ basis.  Please deliver donated jumble and bric-a-brac\, to the Old School at 7-9pm on Friday 13 August. If you have a business crafting jewellery from old tin cans\, make rugs from old clothing\, or do/sell something along those lines\, please get in touch!  There will also be an exhibition on the theme of ‘Waste not\, want not’ celebrating SSB projects and art in the Corridor Gallery (see below). FFI contact Sue on 07810 898777 / email cosycornercrafts@gmail.com or Eva at rubbish@ssb.org.uk or. See: https://ssb.org.uk/event/waste-not-want-not/ \nThe Art House will also be running a Summer Fun Day next door\, as part of their Summer of Play series of events on throughout July and August\, check it out here!
URL:https://ssb.org.uk/event/waste-not-want-not/
LOCATION:South Brent\, Devon\, United Kingdom
CATEGORIES:Talking Rubbish
ORGANIZER;CN="Eva Ball":MAILTO:talkingrubbish@ssb.org.uk
GEO:50.429962;-3.837397
END:VEVENT
END:VCALENDAR