BEGIN:VCALENDAR
VERSION:2.0
PRODID:-//Sustainable South Brent - ECPv6.14.2//NONSGML v1.0//EN
CALSCALE:GREGORIAN
METHOD:PUBLISH
X-ORIGINAL-URL:https://ssb.org.uk
X-WR-CALDESC:Events for Sustainable South Brent
REFRESH-INTERVAL;VALUE=DURATION:PT1H
X-Robots-Tag:noindex
X-PUBLISHED-TTL:PT1H
BEGIN:VTIMEZONE
TZID:Europe/London
BEGIN:DAYLIGHT
TZOFFSETFROM:+0000
TZOFFSETTO:+0100
TZNAME:BST
DTSTART:20230326T010000
END:DAYLIGHT
BEGIN:STANDARD
TZOFFSETFROM:+0100
TZOFFSETTO:+0000
TZNAME:GMT
DTSTART:20231029T010000
END:STANDARD
END:VTIMEZONE
BEGIN:VEVENT
DTSTART;TZID=Europe/London:20230512T093000
DTEND;TZID=Europe/London:20230512T140000
DTSTAMP:20260419T132020
CREATED:20230415T132006Z
LAST-MODIFIED:20230420T202954Z
UID:10000720-1683883800-1683900000@ssb.org.uk
SUMMARY:Loving Earth Project National Textile Exhibition.
DESCRIPTION:25 April to 12 May 2023: Loving Earth Project National Textile Exhibition. Open Monday – Friday; 9.30am-2pm in the Sustainability Hub at the Old School Community Centre. Handmade textile panels illustrating some of the beloved places creatures and other things that are at stake in the climate crisis – and what can be done. See: https://lovingearth-project.uk/event/lep-exhibition-at-sustainable-south-brent-sustainability-hub/. \nThe Loving Earth Project celebrates some of the wonderful things threatened by growing environmental breakdown  It is helping people to engage creatively and constructively with these issues\, without being overwhelmed. It’s also a way to share positive examples of change and why people have taken action. \nThere’s a preview of some of the Loving Earth Panels in the Corridor gallery up until end of April. Worth having a look each time you are in the Old School because we have a diversity of panels on loan and there will be some swapping around! Some are going back to Loving Earth to be displayed at a venue in France. Each panel is a unique expression of someone’s love and care for the earth and there’s a wide range of environmental themes as well as styles of textile art. \n \nThere will be a Loving Earth Tea Party on 4 May\, when you can chat with the organisers & find out more about Art in Community Projects.- see: https://ssb.org.uk/event/loving-earth-tea-party/ \nNB This is not an SSB project.
URL:https://ssb.org.uk/event/12120/2023-05-12/
LOCATION:Old School Community Centre Sustainability Hub\, Totnes Rd\, South Brent\, Devon\, TQ10 9BP\, United Kingdom
CATEGORIES:Sustainability Hub
GEO:50.4258258;-3.8326946
X-APPLE-STRUCTURED-LOCATION;VALUE=URI;X-ADDRESS=Old School Community Centre Sustainability Hub Totnes Rd South Brent Devon TQ10 9BP United Kingdom;X-APPLE-RADIUS=500;X-TITLE=Totnes Rd:geo:-3.8326946,50.4258258
END:VEVENT
END:VCALENDAR