BEGIN:VCALENDAR
VERSION:2.0
PRODID:-//Sustainable South Brent - ECPv6.14.2//NONSGML v1.0//EN
CALSCALE:GREGORIAN
METHOD:PUBLISH
X-ORIGINAL-URL:https://ssb.org.uk
X-WR-CALDESC:Events for Sustainable South Brent
REFRESH-INTERVAL;VALUE=DURATION:PT1H
X-Robots-Tag:noindex
X-PUBLISHED-TTL:PT1H
BEGIN:VTIMEZONE
TZID:Europe/London
BEGIN:DAYLIGHT
TZOFFSETFROM:+0000
TZOFFSETTO:+0100
TZNAME:BST
DTSTART:20230326T010000
END:DAYLIGHT
BEGIN:STANDARD
TZOFFSETFROM:+0100
TZOFFSETTO:+0000
TZNAME:GMT
DTSTART:20231029T010000
END:STANDARD
END:VTIMEZONE
BEGIN:VEVENT
DTSTART;TZID=Europe/London:20230423T150000
DTEND;TZID=Europe/London:20230423T153000
DTSTAMP:20260419T142124
CREATED:20230415T083622Z
LAST-MODIFIED:20230415T084538Z
UID:10000705-1682262000-1682263800@ssb.org.uk
SUMMARY:National Emergency Alerts Alarm system test
DESCRIPTION:Sunday 23 April 2023: National Alarm Test at 3pm. The Government plans to test the National Emergency Alerts Alarm system by sending a national test alarm – a siren and vibration\, lasting for up to 10 seconds\, to all smartphones that use 4G and 5G phone networks (older\, ‘non-smart’ phones will not receive the alarm). The system is now live\, enabling people to be contacted through their mobile phone in the event of there being a danger to life near to where they are (current location – not where you live or work)\, for example severe flooding or fire in the area. If that were to happen near you\, your mobile phone or tablet will receive an alert with advice about how to stay safe. The emergency alert will appear on your device’s home screen and you will need to acknowledge it before you can use other features on the phone. It will however just be a test\, so other than to acknowledge it\, you do not need to take any further action. FFI see: www.gov.uk/alerts and YouTube video and FAQs at https://assets.publishing.service.gov.uk/government/uploads/system/uploads/attachment_data/file/1143765/Frequently_asked_questions_about_Emergency_Alerts.pdf.
URL:https://ssb.org.uk/event/national-emergency-alerts-alarm-system-test/
LOCATION:All Smart Phones\, South Brent\, Devon\, United Kingdom
CATEGORIES:General
GEO:50.429962;-3.837397
END:VEVENT
END:VCALENDAR